BEGIN:VCALENDAR
VERSION:2.0
PRODID:-//The Dance Centre - ECPv6.15.13//NONSGML v1.0//EN
CALSCALE:GREGORIAN
METHOD:PUBLISH
X-WR-CALNAME:The Dance Centre
X-ORIGINAL-URL:https://thedancecentre.ca
X-WR-CALDESC:Events for The Dance Centre
REFRESH-INTERVAL;VALUE=DURATION:PT1H
X-Robots-Tag:noindex
X-PUBLISHED-TTL:PT1H
BEGIN:VTIMEZONE
TZID:America/Vancouver
BEGIN:DAYLIGHT
TZOFFSETFROM:-0800
TZOFFSETTO:-0700
TZNAME:PDT
DTSTART:20220313T100000
END:DAYLIGHT
BEGIN:STANDARD
TZOFFSETFROM:-0700
TZOFFSETTO:-0800
TZNAME:PST
DTSTART:20221106T090000
END:STANDARD
BEGIN:DAYLIGHT
TZOFFSETFROM:-0800
TZOFFSETTO:-0700
TZNAME:PDT
DTSTART:20230312T100000
END:DAYLIGHT
BEGIN:STANDARD
TZOFFSETFROM:-0700
TZOFFSETTO:-0800
TZNAME:PST
DTSTART:20231105T090000
END:STANDARD
BEGIN:DAYLIGHT
TZOFFSETFROM:-0800
TZOFFSETTO:-0700
TZNAME:PDT
DTSTART:20240310T100000
END:DAYLIGHT
BEGIN:STANDARD
TZOFFSETFROM:-0700
TZOFFSETTO:-0800
TZNAME:PST
DTSTART:20241103T090000
END:STANDARD
END:VTIMEZONE
BEGIN:VEVENT
DTSTART;TZID=America/Vancouver:20230731T170000
DTEND;TZID=America/Vancouver:20230731T170000
DTSTAMP:20260425T191039
CREATED:20230217T200359Z
LAST-MODIFIED:20260111T221406Z
UID:15173-1690822800-1690822800@thedancecentre.ca
SUMMARY:Chimerik 似不像
DESCRIPTION:Sammy Chien and Caroline MacCaull co-run Chimerik 似不像\, an award-winning interdisciplinary art collective. We Were One is a movement and new media research project which investigates human connections and questions the prejudices we experience as a society. Through actively decolonizing and unfettering complex dialogues around model minority racism\, intersectional feminism and queerness\, the artists re-image and contemporize ancient architectures and practices (Qi Gong\, Energy Healing work\, Ancestral Rituals and Mediumship)\, in order to further understand the past and help us heal forward. \nIn this informal studio showing\, the artists will share and discuss work in progress.
URL:https://thedancecentre.ca/event/chimerik-2023/
LOCATION:Scotiabank Dance Centre\, 677 Davie Street\, Vancouver\, British Columbia\, V6B 2G6\, Canada
CATEGORIES:Event
ATTACH;FMTTYPE=image/jpeg:https://thedancecentre.ca/wp-content/uploads/2023/02/We-Were-One-photo-Alisha-Weng-sq.jpg
END:VEVENT
END:VCALENDAR