BEGIN:VCALENDAR
VERSION:2.0
PRODID:-//The Dance Centre - ECPv6.15.13//NONSGML v1.0//EN
CALSCALE:GREGORIAN
METHOD:PUBLISH
X-WR-CALNAME:The Dance Centre
X-ORIGINAL-URL:https://thedancecentre.ca
X-WR-CALDESC:Events for The Dance Centre
REFRESH-INTERVAL;VALUE=DURATION:PT1H
X-Robots-Tag:noindex
X-PUBLISHED-TTL:PT1H
BEGIN:VTIMEZONE
TZID:America/Vancouver
BEGIN:DAYLIGHT
TZOFFSETFROM:-0800
TZOFFSETTO:-0700
TZNAME:PDT
DTSTART:20220313T100000
END:DAYLIGHT
BEGIN:STANDARD
TZOFFSETFROM:-0700
TZOFFSETTO:-0800
TZNAME:PST
DTSTART:20221106T090000
END:STANDARD
BEGIN:DAYLIGHT
TZOFFSETFROM:-0800
TZOFFSETTO:-0700
TZNAME:PDT
DTSTART:20230312T100000
END:DAYLIGHT
BEGIN:STANDARD
TZOFFSETFROM:-0700
TZOFFSETTO:-0800
TZNAME:PST
DTSTART:20231105T090000
END:STANDARD
BEGIN:DAYLIGHT
TZOFFSETFROM:-0800
TZOFFSETTO:-0700
TZNAME:PDT
DTSTART:20240310T100000
END:DAYLIGHT
BEGIN:STANDARD
TZOFFSETFROM:-0700
TZOFFSETTO:-0800
TZNAME:PST
DTSTART:20241103T090000
END:STANDARD
END:VTIMEZONE
BEGIN:VEVENT
DTSTART;TZID=America/Vancouver:20230916T080000
DTEND;TZID=America/Vancouver:20230916T170000
DTSTAMP:20260425T160705
CREATED:20230620T214258Z
LAST-MODIFIED:20260111T221834Z
UID:15874-1694851200-1694883600@thedancecentre.ca
SUMMARY:Scotiabank Dance Centre Open House
DESCRIPTION:From bellydance and Bollywood to contemporary\, flamenco\, and Latin\, the annual Scotiabank Dance Centre Open House is a chance to sample a wide range of exciting dance styles in an afternoon of open classes and workshops. Participating companies and artists include Flamenco Rosario\, TomoeArts\, Voirelia Dance Hub\, SHIAMAK Vancouver\, Performance Clinic\, Vancouver Ballet Society\, and more. \nSCROLL DOWN TO VIEW FULL SCHEDULE \nAll studios are wheelchair-accessible except for the Jandali and the Kraul & Strate studios on Level four. \nFor tickets for Isaac Gasangwa’s The African Dream click here. \nPhotos by Lisa Gelley\, James O’Mara
URL:https://thedancecentre.ca/event/scotiabank-dance-centre-open-house-2023/
LOCATION:Scotiabank Dance Centre\, 677 Davie Street\, Vancouver\, British Columbia\, V6B 2G6\, Canada
CATEGORIES:Event
ATTACH;FMTTYPE=image/jpeg:https://thedancecentre.ca/wp-content/uploads/2023/06/FR-2021-James-OMara-sm-e1693343991916.jpg
END:VEVENT
END:VCALENDAR