BEGIN:VCALENDAR
VERSION:2.0
PRODID:-//The Dance Centre - ECPv6.15.13//NONSGML v1.0//EN
CALSCALE:GREGORIAN
METHOD:PUBLISH
X-ORIGINAL-URL:https://thedancecentre.ca
X-WR-CALDESC:Events for The Dance Centre
REFRESH-INTERVAL;VALUE=DURATION:PT1H
X-Robots-Tag:noindex
X-PUBLISHED-TTL:PT1H
BEGIN:VTIMEZONE
TZID:America/Vancouver
BEGIN:DAYLIGHT
TZOFFSETFROM:-0800
TZOFFSETTO:-0700
TZNAME:PDT
DTSTART:20230312T100000
END:DAYLIGHT
BEGIN:STANDARD
TZOFFSETFROM:-0700
TZOFFSETTO:-0800
TZNAME:PST
DTSTART:20231105T090000
END:STANDARD
BEGIN:DAYLIGHT
TZOFFSETFROM:-0800
TZOFFSETTO:-0700
TZNAME:PDT
DTSTART:20240310T100000
END:DAYLIGHT
BEGIN:STANDARD
TZOFFSETFROM:-0700
TZOFFSETTO:-0800
TZNAME:PST
DTSTART:20241103T090000
END:STANDARD
BEGIN:DAYLIGHT
TZOFFSETFROM:-0800
TZOFFSETTO:-0700
TZNAME:PDT
DTSTART:20250309T100000
END:DAYLIGHT
BEGIN:STANDARD
TZOFFSETFROM:-0700
TZOFFSETTO:-0800
TZNAME:PST
DTSTART:20251102T090000
END:STANDARD
END:VTIMEZONE
BEGIN:VEVENT
DTSTART;TZID=America/Vancouver:20240317T140000
DTEND;TZID=America/Vancouver:20240317T160000
DTSTAMP:20260425T071637
CREATED:20240308T162116Z
LAST-MODIFIED:20240308T162116Z
UID:17702-1710684000-1710691200@thedancecentre.ca
SUMMARY:We All Shine
DESCRIPTION:We All Shine is an afternoon celebrating an array of diverse and creative performances. All proceeds will be going to the Downtown Eastside Womens Centre. Tickets are pay-what-you-can. Organized by Arts and Entertainment Students from Capilano University.
URL:https://thedancecentre.ca/event/we-all-shine/
CATEGORIES:Event
ATTACH;FMTTYPE=image/jpeg:https://thedancecentre.ca/wp-content/uploads/2024/03/WeAllShinePoster-Hor-Show.jpg
END:VEVENT
BEGIN:VEVENT
DTSTART;TZID=America/Vancouver:20240327T190000
DTEND;TZID=America/Vancouver:20240327T190000
DTSTAMP:20260425T071637
CREATED:20240223T172648Z
LAST-MODIFIED:20250124T225156Z
UID:17606-1711566000-1711566000@thedancecentre.ca
SUMMARY:Kaia Shukin | Celeste English | Isak Enquist
DESCRIPTION:Portals is a performance of movement\, lighting and sound – in conversation and reaction to each other – inspired by the notion of travel through space\, time and body. Collaborators Kaia Shukin (choreography)\, Celeste English (scenography/lighting) and Isak Enquist (sound) will show and discuss this current iteration of their work. \nIn 2020 the research for Portals began with the notion that travel through space and time was possible within our own bodies.\nVeins as wormholes\, galaxies in viscera\, memories and sensation containing a multiverse.\nThe arrival\, assembly\, disintegration and diffusion of our brief state of being.\nA way through grief\, an act of wonder\, a journey through the multiplicity of self.\nFinding you again\, scattered through the cosmos. \nArtist talkback March 27
URL:https://thedancecentre.ca/event/portals-2024/
LOCATION:Scotiabank Dance Centre\, 677 Davie Street\, Vancouver\, British Columbia\, V6B 2G6\, Canada
CATEGORIES:Event,Studio Showing
ATTACH;FMTTYPE=image/png:https://thedancecentre.ca/wp-content/uploads/2024/02/Portals-photo-Kaia-Shukin-2-1.png
END:VEVENT
BEGIN:VEVENT
DTSTART;TZID=America/Vancouver:20240330T173000
DTEND;TZID=America/Vancouver:20240330T210000
DTSTAMP:20260425T071637
CREATED:20240229T200012Z
LAST-MODIFIED:20240229T200012Z
UID:17668-1711819800-1711832400@thedancecentre.ca
SUMMARY:Belle Spiral
DESCRIPTION:Join us in the Faris Theatre at The Scotiabank Dance Centre for ~ SWIRL ~ an intimate event which celebrates the inaugural season of Belle Spirale Dance Projects – Alexis Fletcher’s and Sylvain Senez’s newly-launched company. \nEnjoy a wonderful evening with special performances and great food and drinks. Bring your friends and meet new people! \n* If you cannot attend but would like to support\, please click here: DONATE \nYou will see previews of our repertoire and be the first audience to see the new works in development this season! \n5:30 – 6:30pm ~ arrival\, cocktail hour\, mix and mingle\n6:30 – 8:00pm ~ dinner and performance by artists/creators of Belle Spirale including: \nJustin Calvadores\nJuan Duarte\nMarisa Gold\nOksana Maslechko\nJustin Rapaport\nLazaro Silva\nWill Jessup\nAlexis Fletcher\nSylvain Senez\nFernando Hernando Magadan\nVictoria Bell \n8:00 – 9pm ~ casual reception where you will meet the artists and team of Belle Spirale\, our special guests\, and continue to mix and mingle! \n* Tickets and all donations of over $50 are eligible for a taxable donation receipt via our amazing charitable partners at Dance//Novella.
URL:https://thedancecentre.ca/event/belle-spiral/
LOCATION:Scotiabank Dance Centre\, 677 Davie Street\, Vancouver\, British Columbia\, V6B 2G6\, Canada
CATEGORIES:Event
END:VEVENT
END:VCALENDAR