BEGIN:VCALENDAR
VERSION:2.0
PRODID:-//The Dance Centre - ECPv6.15.13//NONSGML v1.0//EN
CALSCALE:GREGORIAN
METHOD:PUBLISH
X-ORIGINAL-URL:https://thedancecentre.ca
X-WR-CALDESC:Events for The Dance Centre
REFRESH-INTERVAL;VALUE=DURATION:PT1H
X-Robots-Tag:noindex
X-PUBLISHED-TTL:PT1H
BEGIN:VTIMEZONE
TZID:America/Vancouver
BEGIN:DAYLIGHT
TZOFFSETFROM:-0800
TZOFFSETTO:-0700
TZNAME:PDT
DTSTART:20230312T100000
END:DAYLIGHT
BEGIN:STANDARD
TZOFFSETFROM:-0700
TZOFFSETTO:-0800
TZNAME:PST
DTSTART:20231105T090000
END:STANDARD
BEGIN:DAYLIGHT
TZOFFSETFROM:-0800
TZOFFSETTO:-0700
TZNAME:PDT
DTSTART:20240310T100000
END:DAYLIGHT
BEGIN:STANDARD
TZOFFSETFROM:-0700
TZOFFSETTO:-0800
TZNAME:PST
DTSTART:20241103T090000
END:STANDARD
BEGIN:DAYLIGHT
TZOFFSETFROM:-0800
TZOFFSETTO:-0700
TZNAME:PDT
DTSTART:20250309T100000
END:DAYLIGHT
BEGIN:STANDARD
TZOFFSETFROM:-0700
TZOFFSETTO:-0800
TZNAME:PST
DTSTART:20251102T090000
END:STANDARD
END:VTIMEZONE
BEGIN:VEVENT
DTSTART;TZID=America/Vancouver:20240429T080000
DTEND;TZID=America/Vancouver:20240429T170000
DTSTAMP:20260425T053842
CREATED:20230620T220014Z
LAST-MODIFIED:20240425T215954Z
UID:15876-1714377600-1714410000@thedancecentre.ca
SUMMARY:International Dance Day 2024
DESCRIPTION:Join us for a program of events celebrating the art of dance for International Dance Day! \n1.30-3pm: Free workshops at 800 Robson Plaza with OURO Collective\, VanVogueJam and Hustle at RS Dance Society. \n6pm: Premiere of a new work by Action at a Distance\, Soft Currents\, at Scotiabank Dance Centre. Tickets $0-$20: BOOK HERE. \nScroll down for full details. \nNote: In the event of heavy rain the workshops will take place downstairs in the Robson Plaza ice rink space. \nInitiated in 1982 by UNESCO\, International Dance Day is marked annually on April 29 with events across Canada and around the world. The date commemorates the birthday of Jean-Georges Noverre (1727-1810)\, regarded as the founder of modern ballet. \nPhotos: Action at a Distance/David Cooper
URL:https://thedancecentre.ca/event/international-dance-day-2024/
CATEGORIES:Event
ATTACH;FMTTYPE=image/gif:https://thedancecentre.ca/wp-content/uploads/2023/06/Action-at-a-Distance-photo-David-Cooper-sq.gif
END:VEVENT
END:VCALENDAR