BEGIN:VCALENDAR
VERSION:2.0
PRODID:-//The Dance Centre - ECPv6.15.13//NONSGML v1.0//EN
CALSCALE:GREGORIAN
METHOD:PUBLISH
X-WR-CALNAME:The Dance Centre
X-ORIGINAL-URL:https://thedancecentre.ca
X-WR-CALDESC:Events for The Dance Centre
REFRESH-INTERVAL;VALUE=DURATION:PT1H
X-Robots-Tag:noindex
X-PUBLISHED-TTL:PT1H
BEGIN:VTIMEZONE
TZID:America/Vancouver
BEGIN:DAYLIGHT
TZOFFSETFROM:-0800
TZOFFSETTO:-0700
TZNAME:PDT
DTSTART:20230312T100000
END:DAYLIGHT
BEGIN:STANDARD
TZOFFSETFROM:-0700
TZOFFSETTO:-0800
TZNAME:PST
DTSTART:20231105T090000
END:STANDARD
BEGIN:DAYLIGHT
TZOFFSETFROM:-0800
TZOFFSETTO:-0700
TZNAME:PDT
DTSTART:20240310T100000
END:DAYLIGHT
BEGIN:STANDARD
TZOFFSETFROM:-0700
TZOFFSETTO:-0800
TZNAME:PST
DTSTART:20241103T090000
END:STANDARD
BEGIN:DAYLIGHT
TZOFFSETFROM:-0800
TZOFFSETTO:-0700
TZNAME:PDT
DTSTART:20250309T100000
END:DAYLIGHT
BEGIN:STANDARD
TZOFFSETFROM:-0700
TZOFFSETTO:-0800
TZNAME:PST
DTSTART:20251102T090000
END:STANDARD
END:VTIMEZONE
BEGIN:VEVENT
DTSTART;TZID=America/Vancouver:20241120T080000
DTEND;TZID=America/Vancouver:20241124T170000
DTSTAMP:20260424T183911
CREATED:20240510T161333Z
LAST-MODIFIED:20241119T202316Z
UID:18104-1732089600-1732467600@thedancecentre.ca
SUMMARY:Dance In Vancouver 2024
DESCRIPTION:The 14th biennial Dance In Vancouver celebrates the energy and innovation of BC’s contemporary dance scene: join us for five days of performances\, studio showings and events. \nSCROLL DOWN FOR THE FULL SCHEDULE OF EVENTS \nInitiated by The Dance Centre in 1997\, DIV is also the leading opportunity for presenters and curators from around the world to experience the dynamic contemporary dance of the Canadian West Coast – nurturing the potential for tours\, exchanges and partnerships for local artists. \nThis edition’s guest international curator is Anthea Lewis\, founder of Blulilli Projects UK\, in association with Dance Umbrella (UK) – London’s International Dance Festival\, and FABRIC International. \nDIV 2024 CURATORIAL STATEMENT \nBook any two 8pm performances and save 20%.
URL:https://thedancecentre.ca/event/dance-in-vancouver-2024/
LOCATION:Scotiabank Dance Centre\, 677 Davie Street\, Vancouver\, British Columbia\, V6B 2G6\, Canada
CATEGORIES:Event
ATTACH;FMTTYPE=image/jpeg:https://thedancecentre.ca/wp-content/uploads/2024/09/06-FakeKnot-Croquis-Credit-David-Cooper.jpg
END:VEVENT
END:VCALENDAR