BEGIN:VCALENDAR
VERSION:2.0
PRODID:-//The Dance Centre - ECPv6.15.13//NONSGML v1.0//EN
CALSCALE:GREGORIAN
METHOD:PUBLISH
X-WR-CALNAME:The Dance Centre
X-ORIGINAL-URL:https://thedancecentre.ca
X-WR-CALDESC:Events for The Dance Centre
REFRESH-INTERVAL;VALUE=DURATION:PT1H
X-Robots-Tag:noindex
X-PUBLISHED-TTL:PT1H
BEGIN:VTIMEZONE
TZID:America/Vancouver
BEGIN:DAYLIGHT
TZOFFSETFROM:-0800
TZOFFSETTO:-0700
TZNAME:PDT
DTSTART:20240310T100000
END:DAYLIGHT
BEGIN:STANDARD
TZOFFSETFROM:-0700
TZOFFSETTO:-0800
TZNAME:PST
DTSTART:20241103T090000
END:STANDARD
BEGIN:DAYLIGHT
TZOFFSETFROM:-0800
TZOFFSETTO:-0700
TZNAME:PDT
DTSTART:20250309T100000
END:DAYLIGHT
BEGIN:STANDARD
TZOFFSETFROM:-0700
TZOFFSETTO:-0800
TZNAME:PST
DTSTART:20251102T090000
END:STANDARD
BEGIN:DAYLIGHT
TZOFFSETFROM:-0800
TZOFFSETTO:-0700
TZNAME:PDT
DTSTART:20260308T100000
END:DAYLIGHT
BEGIN:STANDARD
TZOFFSETFROM:-0700
TZOFFSETTO:-0800
TZNAME:PST
DTSTART:20261101T090000
END:STANDARD
END:VTIMEZONE
BEGIN:VEVENT
DTSTART;VALUE=DATE:20250302
DTEND;VALUE=DATE:20250323
DTSTAMP:20260424T120230
CREATED:20250110T221820Z
LAST-MODIFIED:20250110T222832Z
UID:19992-1740873600-1742687999@thedancecentre.ca
SUMMARY:Vancouver International Dance Festival 2025
DESCRIPTION:The 25th annual Vancouver International Dance Festival features performances\, workshops and events with local\, national and international artists at various Vancouver venues. \nThe lineup includes: Charles Koroneho\, Salomé Nieto + Julio Medina\, Hoor Malas\, Lorin Sookool\, Elie-Anne Ross\, Luciana Freire D’Anunciação + Kelly McInnes\, Charlie Khalili Prince\, Sujit Vaidya\, Belle Spirale + Fernando Hernando Magadan and more.
URL:https://thedancecentre.ca/event/vancouver-international-dance-festival-2025/
CATEGORIES:Event
END:VEVENT
BEGIN:VEVENT
DTSTART;TZID=America/Vancouver:20250304T080000
DTEND;TZID=America/Vancouver:20250309T170000
DTSTAMP:20260424T120230
CREATED:20250206T170124Z
LAST-MODIFIED:20250220T164527Z
UID:20251-1741075200-1741539600@thedancecentre.ca
SUMMARY:Coastal Dance Festival 2025
DESCRIPTION:The 18th Annual Coastal Dance Festival brings Indigenous artists together to share and support one another in a celebration of lived artistic practices. Guest national and international artists have connected the festival with a global community of Indigenous dance. \nFull schedule.
URL:https://thedancecentre.ca/event/coastal-dance-festival-2025/
CATEGORIES:Event
END:VEVENT
BEGIN:VEVENT
DTSTART;TZID=America/Vancouver:20250321T063000
DTEND;TZID=America/Vancouver:20250321T213000
DTSTAMP:20260424T120230
CREATED:20250311T170005Z
LAST-MODIFIED:20250311T170005Z
UID:20493-1742538600-1742592600@thedancecentre.ca
SUMMARY:St Patricks Day Spring Break Dance
DESCRIPTION:Welcome to the St Patricks Day Spring Break Dance! Get ready to celebrate the luck of the Irish and kick off your spring break in style. Join us at the Carnegie Community Centre for a night filled with music\, dancing\, and good vibes. Wear your best green outfit and get ready to dance the night away. Whether you’re a seasoned dancer or just looking to have a good time\, this event is perfect for everyone. Don’t miss out on the fun – mark your calendar and get ready to party! \n 
URL:https://thedancecentre.ca/event/st-patricks-day-spring-break-dance/
CATEGORIES:Event
END:VEVENT
END:VCALENDAR