BEGIN:VCALENDAR
VERSION:2.0
PRODID:-//The Dance Centre - ECPv6.15.13//NONSGML v1.0//EN
CALSCALE:GREGORIAN
METHOD:PUBLISH
X-ORIGINAL-URL:https://thedancecentre.ca
X-WR-CALDESC:Events for The Dance Centre
REFRESH-INTERVAL;VALUE=DURATION:PT1H
X-Robots-Tag:noindex
X-PUBLISHED-TTL:PT1H
BEGIN:VTIMEZONE
TZID:America/Vancouver
BEGIN:DAYLIGHT
TZOFFSETFROM:-0800
TZOFFSETTO:-0700
TZNAME:PDT
DTSTART:20240310T100000
END:DAYLIGHT
BEGIN:STANDARD
TZOFFSETFROM:-0700
TZOFFSETTO:-0800
TZNAME:PST
DTSTART:20241103T090000
END:STANDARD
BEGIN:DAYLIGHT
TZOFFSETFROM:-0800
TZOFFSETTO:-0700
TZNAME:PDT
DTSTART:20250309T100000
END:DAYLIGHT
BEGIN:STANDARD
TZOFFSETFROM:-0700
TZOFFSETTO:-0800
TZNAME:PST
DTSTART:20251102T090000
END:STANDARD
BEGIN:DAYLIGHT
TZOFFSETFROM:-0800
TZOFFSETTO:-0700
TZNAME:PDT
DTSTART:20260308T100000
END:DAYLIGHT
BEGIN:STANDARD
TZOFFSETFROM:-0700
TZOFFSETTO:-0800
TZNAME:PST
DTSTART:20261101T090000
END:STANDARD
END:VTIMEZONE
BEGIN:VEVENT
DTSTART;TZID=America/Vancouver:20250515T180000
DTEND;TZID=America/Vancouver:20250515T210000
DTSTAMP:20260424T084306
CREATED:20250424T194416Z
LAST-MODIFIED:20250424T194416Z
UID:20792-1747332000-1747342800@thedancecentre.ca
SUMMARY:VLACC
DESCRIPTION:Experience an evocative evening blending live music\, dance\, and visual storytelling developed from scratch by locally based Latin American artists. Seeds of Resistance is a powerful\, sensory tribute to Castellanos’ enduring questions about power\, gender\, and the invisibility of Indigenous communities. The event includes a living installation\, performance\, artist talkback\, and community celebration.
URL:https://thedancecentre.ca/event/seeds-of-resistance/
CATEGORIES:Event
END:VEVENT
BEGIN:VEVENT
DTSTART;TZID=America/Vancouver:20250521T113000
DTEND;TZID=America/Vancouver:20250521T170000
DTSTAMP:20260424T084306
CREATED:20250508T184434Z
LAST-MODIFIED:20250508T184530Z
UID:20873-1747827000-1747846800@thedancecentre.ca
SUMMARY:Lift: Inverso Intergenerational Festival
DESCRIPTION:LIFT Festival 2025 is Inverso’s first intergenerational dance festival: 3 days of dance performances\, workshops\, discussions\, and time to connect across ages through movement. This event is based on a belief in dance as means to connect beyond words towards a greater depth of understanding across age groups. Ultimately\, it is about how we hold each other up! \nSee our work Borrowed Time with a new Vancouver cast! An intergenerational dance performance bringing together professional and community dancers to explore strength and vulnerability through different phases of our lives. \nMay 21\, 11.30am All Bodies Dance & Claudia Moore\nMay 21\, 7.30pm  Borrowed Time\n​May 22\, 2pm Borrowed Time\nMay 23\, 8pm Borrowed Time
URL:https://thedancecentre.ca/event/lift-inverso-intergenerational-festival/
CATEGORIES:Event
ATTACH;FMTTYPE=image/jpeg:https://thedancecentre.ca/wp-content/uploads/2025/05/Borrowed-Time-Roundhouse.jpg
END:VEVENT
BEGIN:VEVENT
DTSTART;TZID=America/Vancouver:20250524T160000
DTEND;TZID=America/Vancouver:20250524T170000
DTSTAMP:20260424T084306
CREATED:20250522T155049Z
LAST-MODIFIED:20250522T155049Z
UID:20971-1748102400-1748106000@thedancecentre.ca
SUMMARY:West Coast Tap
DESCRIPTION:Our show\, ‘For the Love of Tap’\, will feature local professionals and local community groups. At the show\, we will be honouring Travis Knights\, who is joining us for the weekend. \nWe are offering 12 great workshops on Saturday and Sunday. Check out our Memberships & Workshops page to sign up. Workshops will take place on the 7th floor of the Scotiabank Dance Centre. There are advanced beginner/intermediate and intermediate/advanced workshops to choose from.
URL:https://thedancecentre.ca/event/west-coast-tap/
LOCATION:The Dance Centre\, 677 Davie Street\, Vancouver\, British Columbia\, V6B 2G6\, Canada
CATEGORIES:Event
END:VEVENT
BEGIN:VEVENT
DTSTART;TZID=America/Vancouver:20250524T170000
DTEND;TZID=America/Vancouver:20250524T193000
DTSTAMP:20260424T084306
CREATED:20250424T195210Z
LAST-MODIFIED:20250424T195210Z
UID:20795-1748106000-1748115000@thedancecentre.ca
SUMMARY:Tatkaar: Kathak Workshop and Performance
DESCRIPTION:Led by renowned Kathak artist Puneet Singh\, this interactive workshop invites attendees to explore the rhythmic footwork\, graceful movements\, and expressive storytelling of the Lucknow Gharana tradition. Open to all levels—no experience required! Please bring any ankle bells or ghungru\, Indian Attire is recommended. \nLive Performance\nAfter the break\, immerse yourself in a spellbinding performance featuring: \n\nPuneet Singh – Professional Kathak Artist\nGurjit Sikri –  Sitar Artiste\nHriday Buddhdev – Tabla & Pakhawaj Artiste\nNarration by Nina Buddhdev
URL:https://thedancecentre.ca/event/tatkaar-kathak-workshop-and-performance/
CATEGORIES:Event
END:VEVENT
BEGIN:VEVENT
DTSTART;TZID=America/Vancouver:20250524T190000
DTEND;TZID=America/Vancouver:20250524T170000
DTSTAMP:20260424T084306
CREATED:20250522T155049Z
LAST-MODIFIED:20250522T155049Z
UID:20973-1748113200-1748106000@thedancecentre.ca
SUMMARY:West Coast Tap
DESCRIPTION:Our show\, ‘For the Love of Tap’\, will feature local professionals and local community groups. At the show\, we will be honouring Travis Knights\, who is joining us for the weekend. \nWe are offering 12 great workshops on Saturday and Sunday. Check out our Memberships & Workshops page to sign up. Workshops will take place on the 7th floor of the Scotiabank Dance Centre. There are advanced beginner/intermediate and intermediate/advanced workshops to choose from.
URL:https://thedancecentre.ca/event/west-coast-tap/2025-05-24/2/
LOCATION:The Dance Centre\, 677 Davie Street\, Vancouver\, British Columbia\, V6B 2G6\, Canada
CATEGORIES:Event
END:VEVENT
END:VCALENDAR