BEGIN:VCALENDAR
VERSION:2.0
PRODID:-//The Dance Centre - ECPv6.15.13//NONSGML v1.0//EN
CALSCALE:GREGORIAN
METHOD:PUBLISH
X-WR-CALNAME:The Dance Centre
X-ORIGINAL-URL:https://thedancecentre.ca
X-WR-CALDESC:Events for The Dance Centre
REFRESH-INTERVAL;VALUE=DURATION:PT1H
X-Robots-Tag:noindex
X-PUBLISHED-TTL:PT1H
BEGIN:VTIMEZONE
TZID:America/Vancouver
BEGIN:DAYLIGHT
TZOFFSETFROM:-0800
TZOFFSETTO:-0700
TZNAME:PDT
DTSTART:20240310T100000
END:DAYLIGHT
BEGIN:STANDARD
TZOFFSETFROM:-0700
TZOFFSETTO:-0800
TZNAME:PST
DTSTART:20241103T090000
END:STANDARD
BEGIN:DAYLIGHT
TZOFFSETFROM:-0800
TZOFFSETTO:-0700
TZNAME:PDT
DTSTART:20250309T100000
END:DAYLIGHT
BEGIN:STANDARD
TZOFFSETFROM:-0700
TZOFFSETTO:-0800
TZNAME:PST
DTSTART:20251102T090000
END:STANDARD
BEGIN:DAYLIGHT
TZOFFSETFROM:-0800
TZOFFSETTO:-0700
TZNAME:PDT
DTSTART:20260308T100000
END:DAYLIGHT
BEGIN:STANDARD
TZOFFSETFROM:-0700
TZOFFSETTO:-0800
TZNAME:PST
DTSTART:20261101T090000
END:STANDARD
END:VTIMEZONE
BEGIN:VEVENT
DTSTART;TZID=America/Vancouver:20250604T080000
DTEND;TZID=America/Vancouver:20250605T170000
DTSTAMP:20260424T063959
CREATED:20250502T214803Z
LAST-MODIFIED:20250502T215057Z
UID:20839-1749024000-1749142800@thedancecentre.ca
SUMMARY:Luciana Freire D’Anunciação
DESCRIPTION:Becoming is a multi-screen video installation exploring memory and impermanence\, conceived by Luciana Freire D’Anunciação in collaboration with the Roundhouse Community Dancers. Through dance\, poetry\, and immersive soundscapes\, the work fragments the self\, time\, and space\, inviting visitors to slow down\, linger\, and experience at their own pace. \nLearn more. \nGallery Hours\nJune 4 & 5: 3-6pm\nSpecial Events\nJune 4: 7pm – Opening Reception + Artist Q&A\nJune 5: 6.30pm – Dance Workshop
URL:https://thedancecentre.ca/event/luciana-freire-danunciacao/
CATEGORIES:Event
END:VEVENT
BEGIN:VEVENT
DTSTART;TZID=America/Vancouver:20250606T193000
DTEND;TZID=America/Vancouver:20250606T210000
DTSTAMP:20260424T063959
CREATED:20250523T215203Z
LAST-MODIFIED:20250523T215203Z
UID:20996-1749238200-1749243600@thedancecentre.ca
SUMMARY:Dance in Surrey: Community Showing & Conversation
DESCRIPTION:Dance West Network\, in collaboration with Surrey Civic Theatres\, presents a collection of performances from dance artists based in and/or having strong connections to Surrey.  Featuring: \nB’s Dancing Roses\nLinden Tsz Yin Choi\nRia Goel\nVidya Kotamraju\nThe Paul Tavai-Latta Polynesian Dancers & Co\nMia Pelayo (video)\nPuneet Singh\nplus a performance by Punit Singh who will also facilitate a public talkback with all of the artists.
URL:https://thedancecentre.ca/event/dance-in-surrey-community-showing-conversation/
CATEGORIES:Event,Performance
END:VEVENT
BEGIN:VEVENT
DTSTART;TZID=America/Vancouver:20250612T080000
DTEND;TZID=America/Vancouver:20250621T170000
DTSTAMP:20260424T063959
CREATED:20250529T155515Z
LAST-MODIFIED:20250529T155515Z
UID:21008-1749715200-1750525200@thedancecentre.ca
SUMMARY:Dancing on the Edge 2025
DESCRIPTION:Dancing on the Edge Festival (DOTE)\, recognized as the cornerstone of Vancouver’s contemporary dance season\, presents its 37th annual festival\, featuring an impressive line-up of established and emerging dancemakers at the Firehall Arts Centre and SFU Woodward’s\, on stages June 12 to 21\, 2025. \nSpotlighting a wide range of eclectic world and Canadian premieres\, as well as works in progress\, from Canadian and international artists\, the festival will offer seven mixed programs\, and three full-length works\, over its 10-day slate of performances.
URL:https://thedancecentre.ca/event/dancing-on-the-edge-2025/
CATEGORIES:Event
ATTACH;FMTTYPE=image/jpeg:https://thedancecentre.ca/wp-content/uploads/2025/05/500314160_1282218170579943_8955407695393403746_n.jpg
END:VEVENT
BEGIN:VEVENT
DTSTART;TZID=America/Vancouver:20250623T180000
DTEND;TZID=America/Vancouver:20250623T180000
DTSTAMP:20260424T063959
CREATED:20250123T185612Z
LAST-MODIFIED:20250520T184034Z
UID:20052-1750701600-1750701600@thedancecentre.ca
SUMMARY:12 Minutes Max
DESCRIPTION:12 Minutes Max aims to foster experimentation and the development of new dance works\, along with critical feedback and community dialogue. Dance artists Aditi Chaudhury & Sudnya Mulye\, Jullianna Oke\, Jhoely Triana Flamenco\, and Krystal Tsai will share and discuss their work in an informal studio showing. \nPhoto: Aditi Chaudhury & Sudnya Mulye by Manish Soni; Jullianna Oke by Metta Rose Photography;  Jhoely Triana Flamenco courtesy of the artist; Krystal Tsai by Czarina Agustines.
URL:https://thedancecentre.ca/event/12-minutes-max-2025-session-3/
LOCATION:The Dance Centre\, 677 Davie Street\, Vancouver\, British Columbia\, V6B 2G6\, Canada
CATEGORIES:Event,Studio Showing
ATTACH;FMTTYPE=image/png:https://thedancecentre.ca/wp-content/uploads/2025/01/IMG_8719-Manish-Soni.png
END:VEVENT
END:VCALENDAR