BEGIN:VCALENDAR
VERSION:2.0
PRODID:-//The Dance Centre - ECPv6.15.13//NONSGML v1.0//EN
CALSCALE:GREGORIAN
METHOD:PUBLISH
X-ORIGINAL-URL:https://thedancecentre.ca
X-WR-CALDESC:Events for The Dance Centre
REFRESH-INTERVAL;VALUE=DURATION:PT1H
X-Robots-Tag:noindex
X-PUBLISHED-TTL:PT1H
BEGIN:VTIMEZONE
TZID:America/Vancouver
BEGIN:DAYLIGHT
TZOFFSETFROM:-0800
TZOFFSETTO:-0700
TZNAME:PDT
DTSTART:20240310T100000
END:DAYLIGHT
BEGIN:STANDARD
TZOFFSETFROM:-0700
TZOFFSETTO:-0800
TZNAME:PST
DTSTART:20241103T090000
END:STANDARD
BEGIN:DAYLIGHT
TZOFFSETFROM:-0800
TZOFFSETTO:-0700
TZNAME:PDT
DTSTART:20250309T100000
END:DAYLIGHT
BEGIN:STANDARD
TZOFFSETFROM:-0700
TZOFFSETTO:-0800
TZNAME:PST
DTSTART:20251102T090000
END:STANDARD
BEGIN:DAYLIGHT
TZOFFSETFROM:-0800
TZOFFSETTO:-0700
TZNAME:PDT
DTSTART:20260308T100000
END:DAYLIGHT
BEGIN:STANDARD
TZOFFSETFROM:-0700
TZOFFSETTO:-0800
TZNAME:PST
DTSTART:20261101T090000
END:STANDARD
BEGIN:DAYLIGHT
TZOFFSETFROM:-0800
TZOFFSETTO:-0700
TZNAME:PDT
DTSTART:20270314T100000
END:DAYLIGHT
BEGIN:STANDARD
TZOFFSETFROM:-0700
TZOFFSETTO:-0800
TZNAME:PST
DTSTART:20271107T090000
END:STANDARD
END:VTIMEZONE
BEGIN:VEVENT
DTSTART;TZID=America/Vancouver:20250715T080000
DTEND;TZID=America/Vancouver:20260309T170000
DTSTAMP:20260424T032131
CREATED:20250715T164133Z
LAST-MODIFIED:20260326T213026Z
UID:21180-1752566400-1773075600@thedancecentre.ca
SUMMARY:Global Dance Connections Subscriptions
DESCRIPTION:  \nOur Global Dance Connections series features exciting dance works by artists from across Canada. Subscribe to secure your seat and get the best prices! \nIf your schedule changes\, you can change your booking to a different performance of the same show at no charge (subject to availability). \nOct 9-10 Co.ERASGA\nJan 26-27 Action at a Distance/Vanessa Goodman\nJan 30-31 Plastic Orchid Factory/James Gnam\nFeb 5-6 Justine A. Chambers\nMar 13-14 Ame Henderson Projects + Provincija\nMay 21-23 Corporeal Imago\nJune 19-20 FakeKnot \nScroll down for show details.
URL:https://thedancecentre.ca/event/global-dance-connections-subscriptions-2025-2026/
LOCATION:Scotiabank Dance Centre\, 677 Davie Street\, Vancouver\, British Columbia\, V6B 2G6\, Canada
CATEGORIES:Event
ATTACH;FMTTYPE=image/png:https://thedancecentre.ca/wp-content/uploads/2025/06/Action-at-a-Distance-WAIL-photo-David-Cooper-3.png
END:VEVENT
BEGIN:VEVENT
DTSTART;TZID=America/Vancouver:20250807T180000
DTEND;TZID=America/Vancouver:20250807T180000
DTSTAMP:20260424T032131
CREATED:20250717T161832Z
LAST-MODIFIED:20250723T201203Z
UID:21462-1754589600-1754589600@thedancecentre.ca
SUMMARY:Natalia Martineau
DESCRIPTION:How do you feel being perceived?\nDo you feel at home in your own body?\nCan you exist in an arbitrary mould? \nDance artist Natalia Martineau\, sound artist/performer Aysha Dulong and actor/sound artist Cindy Kao’s research project draws from their personal experiences navigating colonial binaries of race\, sexuality\, and gender to question what it means to perform the self and how we may be perceived as ‘other’ when entering new spaces. The artists will share and discuss their research in this informal showing.
URL:https://thedancecentre.ca/event/natalia-martineau/
LOCATION:Scotiabank Dance Centre\, 677 Davie Street\, Vancouver\, British Columbia\, V6B 2G6\, Canada
CATEGORIES:Event,Studio Showing
ATTACH;FMTTYPE=image/jpeg:https://thedancecentre.ca/wp-content/uploads/2025/07/Natalia-Martineau-rehearsal-photo-TDC.jpg
END:VEVENT
BEGIN:VEVENT
DTSTART;TZID=America/Vancouver:20250809T080000
DTEND;TZID=America/Vancouver:20250810T170000
DTSTAMP:20260424T032131
CREATED:20250522T160058Z
LAST-MODIFIED:20250522T160058Z
UID:20980-1754726400-1754845200@thedancecentre.ca
SUMMARY:31st Annual Wreck Beach Butoh
DESCRIPTION:From July 28 to August 10\, 2025\, Kokoro Dance presents the 31st annual Wreck Beach Butoh Performance Workshop. This intensive two-week butoh workshop led by Kokoro Dance’s Co-Artistic Directors\, Barbara Bourget and Jay Hirabayashi\, and Associate Artistic Director Salomé Nieto is open to anyone over the age of 18. \nThe performances on August 9th and 10th take place\, in the nude\, on Wreck Beach at the foot of the #4 Trail below the UBC Museum of Anthropology. A maximum of 30 participants will be accepted into the workshop. The workshop takes place weekdays from 9:00am-4:00pm daily at the KW Production Studio. Participants should bring comfortable exercise clothing\, a water bottle\, and towel. No previous dance experience or exposure to butoh is required\, but the intensive is physically challenging. If you want to participate\, it is advisable to come to Kokoro’s ongoing dance classes or find physical conditioning elsewhere. \nStarting from day one of the workshop\, we will build a butoh score built on interior imagery that will create both an individual and a group journey\, 60 to 70 minutes in length. It will be performed on sand and in water whether it is sunny or rainy on Vancouver’s largest stage with lighting\, set\, sound\, and costumes by Mother Nature. Kokoro Dance’s Wreck Beach Butoh experience is a life-altering opportunity to discover your own original dance expression. \nMore info.
URL:https://thedancecentre.ca/event/31st-annual-wreck-beach-butoh/
CATEGORIES:Event
END:VEVENT
BEGIN:VEVENT
DTSTART;TZID=America/Vancouver:20250828T080000
DTEND;TZID=America/Vancouver:20250828T200000
DTSTAMP:20260424T032131
CREATED:20250603T184328Z
LAST-MODIFIED:20250818T222326Z
UID:21024-1756368000-1756411200@thedancecentre.ca
SUMMARY:SummerSpace
DESCRIPTION:Artists taking part in our SummerSpace program share and talk about their choreographic research projects in a series of informal showings\, followed by a meet-the-artists gathering on the patio. \nSummerSpace supports emerging and mid-career dance artists by providing fully subsidized studio space for research\, experimentation and the development of new ideas. \nNo registration required\, drop ins are welcome throughout the event. \nProgram:\n5-5.30pm Sarah Hin Ching U 余衍晴\n5.30-6pm Aditi Chaudhury\n6-6.30pm Carla Alcántara\n6.30-7pm Fiana Kawane/ Riyaaz Collective\n7-7.30pm Lyzah and Lamont \nPhotos: Fiana Kawane/Sheng Ho; Aditi Chaudhury/Manish Soni; Carla Alcantara/Rodrigo Picazo; Lyzah and Lamont/Emily Welz; Sarah Hin Ching U 余衍晴/Cole Schmidt
URL:https://thedancecentre.ca/event/summerspace/
LOCATION:Scotiabank Dance Centre\, 677 Davie Street\, Vancouver\, British Columbia\, V6B 2G6\, Canada
CATEGORIES:Event
ATTACH;FMTTYPE=image/png:https://thedancecentre.ca/wp-content/uploads/2025/06/FianaKawane_byShengHo_Vines-sq.png
END:VEVENT
END:VCALENDAR