BEGIN:VCALENDAR
VERSION:2.0
PRODID:-//The Dance Centre - ECPv6.15.13//NONSGML v1.0//EN
CALSCALE:GREGORIAN
METHOD:PUBLISH
X-WR-CALNAME:The Dance Centre
X-ORIGINAL-URL:https://thedancecentre.ca
X-WR-CALDESC:Events for The Dance Centre
REFRESH-INTERVAL;VALUE=DURATION:PT1H
X-Robots-Tag:noindex
X-PUBLISHED-TTL:PT1H
BEGIN:VTIMEZONE
TZID:America/Vancouver
BEGIN:DAYLIGHT
TZOFFSETFROM:-0800
TZOFFSETTO:-0700
TZNAME:PDT
DTSTART:20240310T100000
END:DAYLIGHT
BEGIN:STANDARD
TZOFFSETFROM:-0700
TZOFFSETTO:-0800
TZNAME:PST
DTSTART:20241103T090000
END:STANDARD
BEGIN:DAYLIGHT
TZOFFSETFROM:-0800
TZOFFSETTO:-0700
TZNAME:PDT
DTSTART:20250309T100000
END:DAYLIGHT
BEGIN:STANDARD
TZOFFSETFROM:-0700
TZOFFSETTO:-0800
TZNAME:PST
DTSTART:20251102T090000
END:STANDARD
BEGIN:DAYLIGHT
TZOFFSETFROM:-0800
TZOFFSETTO:-0700
TZNAME:PDT
DTSTART:20260308T100000
END:DAYLIGHT
BEGIN:STANDARD
TZOFFSETFROM:-0700
TZOFFSETTO:-0800
TZNAME:PST
DTSTART:20261101T090000
END:STANDARD
END:VTIMEZONE
BEGIN:VEVENT
DTSTART;TZID=America/Vancouver:20251015T190000
DTEND;TZID=America/Vancouver:20251015T200000
DTSTAMP:20260421T032533
CREATED:20250805T194814Z
LAST-MODIFIED:20250912T181902Z
UID:21582-1760554800-1760558400@thedancecentre.ca
SUMMARY:Justine A. Chambers and Ryan Tacata: Patterning
DESCRIPTION:Join us for Dance Dialogues – a three-part series of talks where artists and scholars delve into the ideas\, practices\, and provocations that shape contemporary dance and art-making. Engage with thought-provoking perspectives in an open space for critical inquiry and nuanced reflection. \nJustine A. Chambers and Ryan Tacata (friends\, academic colleagues\, and art collaborators) speak to\, with\, and through their overlapping creative practices. Framed by gestures and forms produced by garments and garment-making techniques\, they weave their way through a conversation\, stitching together musings on artistic practice and everyday life.
URL:https://thedancecentre.ca/event/justine-a-chambers-and-ryan-tacata-patterning/
LOCATION:Scotiabank Dance Centre\, 677 Davie Street\, Vancouver\, British Columbia\, V6B 2G6\, Canada
CATEGORIES:Event,Talk
ATTACH;FMTTYPE=image/jpeg:https://thedancecentre.ca/wp-content/uploads/2024/07/Justine-Chambers-photo-Rachel-Topham-e1721164788957.jpg
END:VEVENT
END:VCALENDAR