BEGIN:VCALENDAR
VERSION:2.0
PRODID:-//The Dance Centre - ECPv6.15.13//NONSGML v1.0//EN
CALSCALE:GREGORIAN
METHOD:PUBLISH
X-ORIGINAL-URL:https://thedancecentre.ca
X-WR-CALDESC:Events for The Dance Centre
REFRESH-INTERVAL;VALUE=DURATION:PT1H
X-Robots-Tag:noindex
X-PUBLISHED-TTL:PT1H
BEGIN:VTIMEZONE
TZID:America/Vancouver
BEGIN:DAYLIGHT
TZOFFSETFROM:-0800
TZOFFSETTO:-0700
TZNAME:PDT
DTSTART:20220313T100000
END:DAYLIGHT
BEGIN:STANDARD
TZOFFSETFROM:-0700
TZOFFSETTO:-0800
TZNAME:PST
DTSTART:20221106T090000
END:STANDARD
BEGIN:DAYLIGHT
TZOFFSETFROM:-0800
TZOFFSETTO:-0700
TZNAME:PDT
DTSTART:20230312T100000
END:DAYLIGHT
BEGIN:STANDARD
TZOFFSETFROM:-0700
TZOFFSETTO:-0800
TZNAME:PST
DTSTART:20231105T090000
END:STANDARD
BEGIN:DAYLIGHT
TZOFFSETFROM:-0800
TZOFFSETTO:-0700
TZNAME:PDT
DTSTART:20240310T100000
END:DAYLIGHT
BEGIN:STANDARD
TZOFFSETFROM:-0700
TZOFFSETTO:-0800
TZNAME:PST
DTSTART:20241103T090000
END:STANDARD
END:VTIMEZONE
BEGIN:VEVENT
DTSTART;TZID=America/Vancouver:20231102T193000
DTEND;TZID=America/Vancouver:20231102T193000
DTSTAMP:20260425T183943
CREATED:20230926T203235Z
LAST-MODIFIED:20231017T190820Z
UID:16715-1698953400-1698953400@thedancecentre.ca
SUMMARY:Belle Spirale Dance Projects and Blackout Art Society
DESCRIPTION:Two performers explore themes of belonging\, intergenerational memory\, and kinship through an introspective\, emotive world in this multi-dimensional contemporary dance work. \nA collaboration between Belle Spirale Dance Projects and Blackout Art Society\, directed and envisioned by Alexis Fletcher\, complemented by Sylvain Senez’s dramaturgy and visual design. Collaborators and performers\, Lazaro Silva and Juan Duarte\, beautifully translate lineage and memory into their dance. \nPresented as part of STAND Festival 2023. \nTickets and info.
URL:https://thedancecentre.ca/event/belle-spirale-dance-projects-and-blackout-art-society/
LOCATION:Scotiabank Dance Centre\, 677 Davie Street\, Vancouver\, British Columbia\, V6B 2G6\, Canada
CATEGORIES:Performance
END:VEVENT
BEGIN:VEVENT
DTSTART;TZID=America/Vancouver:20231105T140000
DTEND;TZID=America/Vancouver:20231105T143000
DTSTAMP:20260425T183943
CREATED:20231012T213658Z
LAST-MODIFIED:20260111T223719Z
UID:16810-1699192800-1699194600@thedancecentre.ca
SUMMARY:Stand Up Dance: Book Swap
DESCRIPTION:Do you have a book you love and want to share with someone else? Join Stand Up Dance for the Anatomalia book swap! \nBring your book to the theatre lobby on November 5. Books focussing on feminism\, 2SLGBTQIA+\, and social justice are encouraged\, but all genres are welcome: fiction/nonfiction\, graphic novels\, anime/manga. (No coffee table books or magazines please.) \nMeet the artists of Stand Up Dance and tell them what you love about the book. They will wrap it up and incorporate it into the set of Anatomalia\, running November 16-18. \nCome back on November 19\, pick another book from the collection\, unwrap and enjoy! Share some refreshments and connect with other book lovers.
URL:https://thedancecentre.ca/event/stand-up-dance-book-swap/2023-11-05/
LOCATION:Scotiabank Dance Centre\, 677 Davie Street\, Vancouver\, British Columbia\, V6B 2G6\, Canada
CATEGORIES:Event
ATTACH;FMTTYPE=image/jpeg:https://thedancecentre.ca/wp-content/uploads/2023/10/3-scaled-e1698173615386.jpg
END:VEVENT
BEGIN:VEVENT
DTSTART;TZID=America/Vancouver:20231109T120000
DTEND;TZID=America/Vancouver:20231109T130000
DTSTAMP:20260425T183943
CREATED:20230718T185427Z
LAST-MODIFIED:20260111T223313Z
UID:16082-1699531200-1699534800@thedancecentre.ca
SUMMARY:Calle Verde + Jhoely Triana Flamenco
DESCRIPTION:Calle Verde (comprising Maria Avila\, Michelle Harding\, and Peter Mole) and Jhoely Triana are in the vanguard of a wave of Vancouver artists who honour the traditions of flamenco while experimenting with the form. This double bill features their latest creations in a thrilling performance that showcases flamenco’s technical brilliance\, emotional power\, and heart-stirring music and singing.
URL:https://thedancecentre.ca/event/calle-verde-jhoely-triana-flamenco/
LOCATION:Scotiabank Dance Centre\, 677 Davie Street\, Vancouver\, British Columbia\, V6B 2G6\, Canada
CATEGORIES:Performance
ATTACH;FMTTYPE=image/jpeg:https://thedancecentre.ca/wp-content/uploads/2022/01/Calle-Verde-photo-Audrey-Bowsq.jpg
END:VEVENT
BEGIN:VEVENT
DTSTART;TZID=America/Vancouver:20231116T200000
DTEND;TZID=America/Vancouver:20231118T200000
DTSTAMP:20260425T183943
CREATED:20230718T185426Z
LAST-MODIFIED:20260111T223147Z
UID:15923-1700164800-1700337600@thedancecentre.ca
SUMMARY:Stand Up Dance
DESCRIPTION:From dance-theatre mash-ups and site-specific works to films and interactive installations\, the work of queer Canadian dance artist Meagan O’Shea is almost impossible to categorize\, crossing disciplines and continents. Anatomalia is an adventurous international collaboration\, and a passionate collective healing of the damage done to ‘femalia’. Bringing together a cast of five exceptional dancers\, original sound and design\, and local participants\, the work cycles between shame and curiosity\, repulsion and desire\, fear and trust\, to release the trauma stored in the body\, and reclaim joy. Theatrical\, playful\, and imaginative\, this one-of-a-kind creation celebrates survival and recovery. \nPost-show artist talkback November 17 | Book Swap \nThis is a promenade-style performance where the audience is free to move around the space to see the unfolding of the work from different perspectives\, for a richly immersive and intimate experience. Seating will also be available. \nPROGRAM
URL:https://thedancecentre.ca/event/stand-up-dance/
LOCATION:Scotiabank Dance Centre\, 677 Davie Street\, Vancouver\, British Columbia\, V6B 2G6\, Canada
CATEGORIES:Performance
ATTACH;FMTTYPE=image/jpeg:https://thedancecentre.ca/wp-content/uploads/2023/11/Anatomalia-2-photo-Tristan-Perez-Martin.jpg
END:VEVENT
BEGIN:VEVENT
DTSTART;TZID=America/Vancouver:20231125T110000
DTEND;TZID=America/Vancouver:20231126T190000
DTSTAMP:20260425T183943
CREATED:20231123T230015Z
LAST-MODIFIED:20231123T230218Z
UID:17127-1700910000-1701025200@thedancecentre.ca
SUMMARY:NOT JUST DANCE
DESCRIPTION:Created by Canada’s and Montreal’s iconic dance artist Zab Maboungou/Compagnie Danse Nyata Nyata\, the NOT JUST DANCE symposium is an initiative aimed at generating a broader understanding of the contexts and issues encompassed within the realities of political and aesthetic cultures\, an initiative that we hope can be extended to various regions of the world\, with the collaboration of various local artists and communities; in other words\, that we hope will be an “itinerant’ symposium. \nPresented by Co.ERASGA\, Raven Spirit Dance and The Dance Centre. \nREGISTER
URL:https://thedancecentre.ca/event/not-just-dance/
LOCATION:Scotiabank Dance Centre\, 677 Davie Street\, Vancouver\, British Columbia\, V6B 2G6\, Canada
CATEGORIES:Event
END:VEVENT
END:VCALENDAR