BEGIN:VCALENDAR
VERSION:2.0
PRODID:-//The Dance Centre - ECPv6.15.13//NONSGML v1.0//EN
CALSCALE:GREGORIAN
METHOD:PUBLISH
X-ORIGINAL-URL:https://thedancecentre.ca
X-WR-CALDESC:Events for The Dance Centre
REFRESH-INTERVAL;VALUE=DURATION:PT1H
X-Robots-Tag:noindex
X-PUBLISHED-TTL:PT1H
BEGIN:VTIMEZONE
TZID:America/Vancouver
BEGIN:DAYLIGHT
TZOFFSETFROM:-0800
TZOFFSETTO:-0700
TZNAME:PDT
DTSTART:20230312T100000
END:DAYLIGHT
BEGIN:STANDARD
TZOFFSETFROM:-0700
TZOFFSETTO:-0800
TZNAME:PST
DTSTART:20231105T090000
END:STANDARD
BEGIN:DAYLIGHT
TZOFFSETFROM:-0800
TZOFFSETTO:-0700
TZNAME:PDT
DTSTART:20240310T100000
END:DAYLIGHT
BEGIN:STANDARD
TZOFFSETFROM:-0700
TZOFFSETTO:-0800
TZNAME:PST
DTSTART:20241103T090000
END:STANDARD
BEGIN:DAYLIGHT
TZOFFSETFROM:-0800
TZOFFSETTO:-0700
TZNAME:PDT
DTSTART:20250309T100000
END:DAYLIGHT
BEGIN:STANDARD
TZOFFSETFROM:-0700
TZOFFSETTO:-0800
TZNAME:PST
DTSTART:20251102T090000
END:STANDARD
END:VTIMEZONE
BEGIN:VEVENT
DTSTART;TZID=America/Vancouver:20240905T080000
DTEND;TZID=America/Vancouver:20240915T170000
DTSTAMP:20260425T032301
CREATED:20240830T190253Z
LAST-MODIFIED:20240830T190756Z
UID:19044-1725523200-1726419600@thedancecentre.ca
SUMMARY:Rita Sheena
DESCRIPTION:A story is told through spiraling movement and dance\, as we follow Suzanne through 12 Leonard Cohen songs performed by First Aid Kit. \nEVERYBODY KNOWS was first performed at the Vancouver Fringe Festival in 2021\, and went on tour in 2022 and 2023. Now in its 7th and final iteration\, this Fringe favorite returns with more songs\, new choreography\, and bold costumes. We witness the evolution of Suzanne as her character claws towards completing another grueling Hero’s Journey. \nRita Sheena created this show with her background in classic and contemporary dance styles\, love for theatre\, and decades of Leonard Cohen devotion.
URL:https://thedancecentre.ca/event/rita-sheena/
CATEGORIES:Performance
ATTACH;FMTTYPE=image/jpeg:https://thedancecentre.ca/wp-content/uploads/2024/08/Everybody-KNows.jpg
END:VEVENT
BEGIN:VEVENT
DTSTART;TZID=America/Vancouver:20240906T193000
DTEND;TZID=America/Vancouver:20240907T170000
DTSTAMP:20260425T032301
CREATED:20240620T180733Z
LAST-MODIFIED:20240620T180733Z
UID:18380-1725651000-1725728400@thedancecentre.ca
SUMMARY:Ballet BC
DESCRIPTION:Ballet BC company artists take the lead and present the fourth edition of Take Form. Entirely created\, produced\, choreographed\, and performed by our dancers\, Take Form provides the opportunity to explore a wide range of skills related to arts management and production\, fostering the next generation of leaders across all aspects of the dance and cultural sectors. Expect an intimate\, fun\, and very popular event—secure your seats early!
URL:https://thedancecentre.ca/event/ballet-bc-9/
CATEGORIES:Performance
END:VEVENT
BEGIN:VEVENT
DTSTART;TZID=America/Vancouver:20240907T190000
DTEND;TZID=America/Vancouver:20240907T190000
DTSTAMP:20260425T032301
CREATED:20240704T171511Z
LAST-MODIFIED:20240704T171511Z
UID:18434-1725735600-1725735600@thedancecentre.ca
SUMMARY:VIVA LA DANZA
DESCRIPTION:VIVA LA DANZA is a spectacular showpiece featuring Mexican folklore dance and live music. This year´s show is full of energy\, resilience and beauty. Starring multiple semi-professional and professional dancers\, everyone with a story to tell. \nAn edgy show for audiences of all ages\, this performance will grip you from the moment it starts and will take you to get to know a world in which dance is the main language. \nLive music from\, Naty Cerecedo\, Mariachi Los Dorados and Los Grandes and thirty dancers on stage that will give you a series of diverse and unique performances combining the traditional and contemporary Mexican Folk dance\, this is a performance not to be missed!
URL:https://thedancecentre.ca/event/viva-la-danza/
CATEGORIES:Performance
ATTACH;FMTTYPE=image/jpeg:https://thedancecentre.ca/wp-content/uploads/2024/07/MDE-VIVA-LA-DANZA-Mobile-image-370-x-370-M2.jpg
END:VEVENT
BEGIN:VEVENT
DTSTART;TZID=America/Vancouver:20240913T080000
DTEND;TZID=America/Vancouver:20240922T170000
DTSTAMP:20260425T032301
CREATED:20240801T175813Z
LAST-MODIFIED:20240801T175813Z
UID:18763-1726214400-1727024400@thedancecentre.ca
SUMMARY:Vancouver International Flamenco Festival 2024
DESCRIPTION:The Vancouver International Flamenco Festival‘s 34th edition proudly announces its 2024 lineup featuring some of the finest Canadian and International Flamenco artists from September 12–22. The 2024 Festival will feature live performances\, with both ticketed and FREE events. VIFF promises to deliver exceptional and dynamic programs and we celebrate our local\, national and international connections and performers from Spain\, Taiwan\, Cuba\, Mexico\, India and Canada. This year‘s highlights include the Canadian premiere presentation of Spain‘s COMPAÑÍA MARCO FLORES with Rayuela at the Vancouver Playhouse. The musicians from the company\, Jose Tomás Jiménez (guitar) Jose Valencia (voice) will also give an exclusive music concert at St James Hall. We celebrate flamenco with accordion-robots (Ebe)\, a vibrant CD release (Lara Wong/ Melón Jiménez) and a moving personal journey (Flamencolía Dance Company). \nSpecial presentation: The inaugural winner of the Victor Kolstee Music Award is Iminah Kani and at the opening night of the festival on the Playhouse stage\, Rosario will present Iminah with a commemorative award.
URL:https://thedancecentre.ca/event/vancouver-international-flamenco-festival-2024/
CATEGORIES:Event
END:VEVENT
BEGIN:VEVENT
DTSTART;TZID=America/Vancouver:20240913T173000
DTEND;TZID=America/Vancouver:20240913T193000
DTSTAMP:20260425T032301
CREATED:20240906T212428Z
LAST-MODIFIED:20240906T212510Z
UID:19119-1726248600-1726255800@thedancecentre.ca
SUMMARY:Erin Ball and Maxime Beauregard
DESCRIPTION:Erin and Maxime will perform an aerial fabric duet that explores creative accessibility and imagination. With thanks to Sido Adamson\, Constance Echo Palmer\, Lindsey Butcher\, Angola Murdoch\, and Amy Amantea. \nIn addition\, there will be a second sharing: two drag debuts! Retina Raptura and the Stumpettes take the stage for first time with the amazing Alek Ginger Bend. This fun and silly access adventure is not to be missed. \nHosted by Future Leisure and All Bodies Dance \nFull details
URL:https://thedancecentre.ca/event/erin-ball-and-maxime-beauregard-2/
CATEGORIES:Performance
END:VEVENT
BEGIN:VEVENT
DTSTART;TZID=America/Vancouver:20240914T080000
DTEND;TZID=America/Vancouver:20240914T170000
DTSTAMP:20260425T032301
CREATED:20240510T160353Z
LAST-MODIFIED:20250124T215035Z
UID:18102-1726300800-1726333200@thedancecentre.ca
SUMMARY:Scotiabank Dance Centre Open House
DESCRIPTION:Contemporary\, flamenco\, ballet\, Vogue\, Mexican folk dance\, tai chi\, and more! \nThe 23rd annual Open House offers a chance to experience a host of different dance styles\, in a day of free classes\, workshops\, studio showings and events at Scotiabank Dance Centre\, one of Canada’s flagship dance facilities. \nSCROLL DOWN FOR THE SCHEDULE OF EVENTS. \n 
URL:https://thedancecentre.ca/event/scotiabank-dance-centre-open-house-2024/
LOCATION:Scotiabank Dance Centre\, 677 Davie Street\, Vancouver\, British Columbia\, V6B 2G6\, Canada
CATEGORIES:Event
ATTACH;FMTTYPE=image/png:https://thedancecentre.ca/wp-content/uploads/2024/05/Mexican-Dance-Ensemble-photo-Tom-Gould-2-edit.png
END:VEVENT
BEGIN:VEVENT
DTSTART;TZID=America/Vancouver:20240918T200000
DTEND;TZID=America/Vancouver:20240920T170000
DTSTAMP:20260425T032301
CREATED:20240607T164725Z
LAST-MODIFIED:20240607T164725Z
UID:18268-1726689600-1726851600@thedancecentre.ca
SUMMARY:Co.ERASGA
DESCRIPTION:Co.ERASGA presents the creation and presentation of What on EARTH consisting of 3 ensemble works created by three international dance artists: Vancouver’s very own Alvin Erasga Tolentino and our two guest artists in residence Toronto’s Naishi Wang and Berlin’s Alvin Collantes. The three choreographers forge creativity  together to create this 75 minutes dance program to support Co.ERASGA vision towards dance-art creation for environmental stewardships. \nWhat on Earth will continue to examine the critical creative relations to the environment and the dire times we face with global warming. Can we raise and push creative investments \, practices and concerns to attune our creativity to an alarming and devastating fragile ecologies? The productions seek and push to question our human relational\, place and time on environmental concerns and stewardship. The effects of climate change are undeniable\, impacting communities worldwide and exacerbating existing inequalities. Yet\, amidst the chaos and uncertainty\, there lies a beacon of hope- a collective call for action\, resilience and solidarity.
URL:https://thedancecentre.ca/event/co-erasga-2/
CATEGORIES:Performance
END:VEVENT
BEGIN:VEVENT
DTSTART;TZID=America/Vancouver:20240919T190000
DTEND;TZID=America/Vancouver:20240919T190000
DTSTAMP:20260425T032301
CREATED:20240912T190318Z
LAST-MODIFIED:20240912T190318Z
UID:19164-1726772400-1726772400@thedancecentre.ca
SUMMARY:Wailele Wai Wai
DESCRIPTION:Join us for a magical evening filled with Hawaiian Hula and culture. Wailele Wai Wai will take you on a journey to the beautiful islands of Hawaii through their captivating performances. \nIndulge in the warmth and hospitality of Hawaii as Wailele Wai Wai shares the essence of Aloha through traditional songs and dances. Let the soothing\, swaying hula dancers transport you to paradise.
URL:https://thedancecentre.ca/event/wailele-wai-wai/
CATEGORIES:Performance
END:VEVENT
BEGIN:VEVENT
DTSTART;TZID=America/Vancouver:20240920T120000
DTEND;TZID=America/Vancouver:20240920T130000
DTSTAMP:20260425T032301
CREATED:20240808T164458Z
LAST-MODIFIED:20240906T212059Z
UID:18791-1726833600-1726837200@thedancecentre.ca
SUMMARY:New Works
DESCRIPTION:Get ready to be surprised as new and captivating dance performances pop up in unexpected places across Vancouver Public Library and Granville Island! Find Pop Up Dances Festival on Friday (September 20) for an exciting noon-hour performance and artist talk. Featuring 2 artists: Kelly McInnes\, and Carla Alcántara.\nFollowed by an artist panel conversation on the practice of choreographing for site-specific locations. \nFull details.
URL:https://thedancecentre.ca/event/new-works-pop-up-dance/
CATEGORIES:Event
END:VEVENT
BEGIN:VEVENT
DTSTART;TZID=America/Vancouver:20240920T200000
DTEND;TZID=America/Vancouver:20240921T170000
DTSTAMP:20260425T032301
CREATED:20240723T162649Z
LAST-MODIFIED:20250617T193031Z
UID:18451-1726862400-1726938000@thedancecentre.ca
SUMMARY:Sophie Dow + Laura Reznek
DESCRIPTION:Agrimony walks the edge between spellbinding contemporary dance and an evocative concert. Co-created by the talented young choreographer Sophie Dow in collaboration with composer/multi-instrumentalist Laura Reznek\, the work pays tribute to agrimonia eupatoria. In traditional plant medicine\, this small yellow flower is a catalyst for honesty\, dissolving masks of fear and pain to unveil our truest selves. \nThe fluent choreography\, expressively performed by Dow and three dancers\, has an intimate connection to the score\, which is played live on stage by Reznek and four musicians. Agrimony is an emotional\, uplifting and radiant exploration of courage and authenticity. \nArtist talkback after each performance. \nPROGRAM
URL:https://thedancecentre.ca/event/sophie-dow-laura-reznek/
LOCATION:Scotiabank Dance Centre\, 677 Davie Street\, Vancouver\, British Columbia\, V6B 2G6\, Canada
CATEGORIES:Performance
ATTACH;FMTTYPE=image/gif:https://thedancecentre.ca/wp-content/uploads/2024/07/Sophie-Dow-Agrimony-photo-Vitantonio-Spinelli-2.gif
END:VEVENT
BEGIN:VEVENT
DTSTART;TZID=America/Vancouver:20240921T153000
DTEND;TZID=America/Vancouver:20240921T170000
DTSTAMP:20260425T032301
CREATED:20240906T211811Z
LAST-MODIFIED:20240906T213041Z
UID:19107-1726932600-1726938000@thedancecentre.ca
SUMMARY:New Works
DESCRIPTION:In September 2024 Pop Up Dances returns to public stairwells\, tunnels\, shopfronts and more with an exciting festival of dance in unusual spaces. This fall\, the fan-favourite site-specific dance series will expand to a three-day festival\, animating unexpected places across Vancouver Public Library and Granville Island! \nFind Pop Up Dances Festival on Saturday or Sunday (September 21 or 22). Join host\, performer extraordinaire\, Joylyn Secunda that will lead audiences on a route of 5 locations at Granville Island\, each featuring a site-specific dance performance\, with talented artists from contemporary Indigenous Powwow Dance to street and contemporary dance and more! \nFull details.
URL:https://thedancecentre.ca/event/new-works-pop-up/
CATEGORIES:Event
END:VEVENT
BEGIN:VEVENT
DTSTART;TZID=America/Vancouver:20240927T190000
DTEND;TZID=America/Vancouver:20240927T220000
DTSTAMP:20260425T032301
CREATED:20240912T191930Z
LAST-MODIFIED:20240913T212902Z
UID:19170-1727463600-1727474400@thedancecentre.ca
SUMMARY:OkamsRacer
DESCRIPTION:We’re bringing communities together for a night of connection\, joy\, and celebration. This event is all about embracing our humanity\, encouraging the mind-body connection\, and sparking joy. \nEveryone is welcome\, and we encourage you to let your unique personality shine! \nEnjoy dance performances by Allison Lang. Choreography by Ana Sosa and Alyssa Favero \nGet ready for an epic wh/aacking battle judged by Simziez and jam with your fellow artists. \nCome as you are\, dance as you feel\, and leave with a smile. \nThis is more than just a party—it’s a celebration of individuality and togetherness. \nSee you there!
URL:https://thedancecentre.ca/event/colores/
CATEGORIES:Performance
END:VEVENT
END:VCALENDAR