BEGIN:VCALENDAR
VERSION:2.0
PRODID:-//The Dance Centre - ECPv6.15.13//NONSGML v1.0//EN
CALSCALE:GREGORIAN
METHOD:PUBLISH
X-WR-CALNAME:The Dance Centre
X-ORIGINAL-URL:https://thedancecentre.ca
X-WR-CALDESC:Events for The Dance Centre
REFRESH-INTERVAL;VALUE=DURATION:PT1H
X-Robots-Tag:noindex
X-PUBLISHED-TTL:PT1H
BEGIN:VTIMEZONE
TZID:America/Vancouver
BEGIN:DAYLIGHT
TZOFFSETFROM:-0800
TZOFFSETTO:-0700
TZNAME:PDT
DTSTART:20240310T100000
END:DAYLIGHT
BEGIN:STANDARD
TZOFFSETFROM:-0700
TZOFFSETTO:-0800
TZNAME:PST
DTSTART:20241103T090000
END:STANDARD
BEGIN:DAYLIGHT
TZOFFSETFROM:-0800
TZOFFSETTO:-0700
TZNAME:PDT
DTSTART:20250309T100000
END:DAYLIGHT
BEGIN:STANDARD
TZOFFSETFROM:-0700
TZOFFSETTO:-0800
TZNAME:PST
DTSTART:20251102T090000
END:STANDARD
BEGIN:DAYLIGHT
TZOFFSETFROM:-0800
TZOFFSETTO:-0700
TZNAME:PDT
DTSTART:20260308T100000
END:DAYLIGHT
BEGIN:STANDARD
TZOFFSETFROM:-0700
TZOFFSETTO:-0800
TZNAME:PST
DTSTART:20261101T090000
END:STANDARD
END:VTIMEZONE
BEGIN:VEVENT
DTSTART;TZID=America/Vancouver:20250604T080000
DTEND;TZID=America/Vancouver:20250605T170000
DTSTAMP:20260419T054726
CREATED:20250502T214803Z
LAST-MODIFIED:20250502T215057Z
UID:20839-1749024000-1749142800@thedancecentre.ca
SUMMARY:Luciana Freire D’Anunciação
DESCRIPTION:Becoming is a multi-screen video installation exploring memory and impermanence\, conceived by Luciana Freire D’Anunciação in collaboration with the Roundhouse Community Dancers. Through dance\, poetry\, and immersive soundscapes\, the work fragments the self\, time\, and space\, inviting visitors to slow down\, linger\, and experience at their own pace. \nLearn more. \nGallery Hours\nJune 4 & 5: 3-6pm\nSpecial Events\nJune 4: 7pm – Opening Reception + Artist Q&A\nJune 5: 6.30pm – Dance Workshop
URL:https://thedancecentre.ca/event/luciana-freire-danunciacao/
CATEGORIES:Event
END:VEVENT
BEGIN:VEVENT
DTSTART;TZID=America/Vancouver:20250605T200000
DTEND;TZID=America/Vancouver:20250607T170000
DTSTAMP:20260419T054726
CREATED:20240723T162738Z
LAST-MODIFIED:20250617T193051Z
UID:18467-1749153600-1749315600@thedancecentre.ca
SUMMARY:Company 605 + The Human Expression
DESCRIPTION:Vancouver’s Company 605 and Singapore’s The Human Expression (T.H.E) Dance Company join forces for a thrilling new international creation. Envisioned and choreographed by Anthea Seah (T.H.E) and Josh Martin (Company 605)\, Sloth Canon brings together performers and collaborators from both cities to seek out what it means to build and to break. \nA fragmented team of five is determined to “keep it together” as their bodies are propelled by unnatural momentum\, and their bubble of fantasy drifts towards the spike of reality. What happens when imagination exceeds capacity? When ambitions threaten to burst under their own weight? When the sin of slowness collides with the pressure to produce? Sloth Canon is hellbent on building forward – while simultaneously falling apart. \nPost-show artist talkback June 6. \nPROGRAM
URL:https://thedancecentre.ca/event/company-605-the-human-expression/
LOCATION:Scotiabank Dance Centre\, 677 Davie Street\, Vancouver\, British Columbia\, V6B 2G6\, Canada
CATEGORIES:Performance
ATTACH;FMTTYPE=image/jpeg:https://thedancecentre.ca/wp-content/uploads/2024/07/THEx605_25Feb19669-sq.jpg
END:VEVENT
BEGIN:VEVENT
DTSTART;TZID=America/Vancouver:20250606T193000
DTEND;TZID=America/Vancouver:20250606T210000
DTSTAMP:20260419T054726
CREATED:20250523T215203Z
LAST-MODIFIED:20250523T215203Z
UID:20996-1749238200-1749243600@thedancecentre.ca
SUMMARY:Dance in Surrey: Community Showing & Conversation
DESCRIPTION:Dance West Network\, in collaboration with Surrey Civic Theatres\, presents a collection of performances from dance artists based in and/or having strong connections to Surrey.  Featuring: \nB’s Dancing Roses\nLinden Tsz Yin Choi\nRia Goel\nVidya Kotamraju\nThe Paul Tavai-Latta Polynesian Dancers & Co\nMia Pelayo (video)\nPuneet Singh\nplus a performance by Punit Singh who will also facilitate a public talkback with all of the artists.
URL:https://thedancecentre.ca/event/dance-in-surrey-community-showing-conversation/
CATEGORIES:Event,Performance
END:VEVENT
BEGIN:VEVENT
DTSTART;TZID=America/Vancouver:20250606T193000
DTEND;TZID=America/Vancouver:20250607T193000
DTSTAMP:20260419T054726
CREATED:20250509T164440Z
LAST-MODIFIED:20250509T164440Z
UID:20889-1749238200-1749324600@thedancecentre.ca
SUMMARY:Goh Ballet
DESCRIPTION:Celebrate the legacy of the father of classical ballet at Goh Ballet’s Hommage à Petipa. This showcase will feature a curated selection of the legendary choreographer’s most iconic works\, restaged by the Goh Ballet artistic faculty\, demonstrating Petipa’s lasting influence on both dancers and audiences alike.
URL:https://thedancecentre.ca/event/goh-ballet-3/
CATEGORIES:Performance
END:VEVENT
BEGIN:VEVENT
DTSTART;TZID=America/Vancouver:20250607T110000
DTEND;TZID=America/Vancouver:20250607T123000
DTSTAMP:20260419T054726
CREATED:20250523T162208Z
LAST-MODIFIED:20250523T162208Z
UID:20989-1749294000-1749299400@thedancecentre.ca
SUMMARY:Arts Outside
DESCRIPTION:You are invited to a public showing at Alliance Francaise Vancouver of five dance performances from Des Arts Dehors / Arts Outside (DADAO) presented by Dance West Network and Alliance Française Vancouver. \nCome discover dance performances by artists from British Columbia and Québec.
URL:https://thedancecentre.ca/event/arts-outside/
CATEGORIES:Performance
END:VEVENT
BEGIN:VEVENT
DTSTART;TZID=America/Vancouver:20250607T143000
DTEND;TZID=America/Vancouver:20250607T160000
DTSTAMP:20260419T054726
CREATED:20250509T164616Z
LAST-MODIFIED:20250509T164616Z
UID:20891-1749306600-1749312000@thedancecentre.ca
SUMMARY:Goh Ballet
DESCRIPTION:Enjoy the adventures and escapades of 12 fairies as they venture through Les Saisons Fantastique.  From twirling with the snowflakes in January\, to reveling in the perfumed scent of the flowers in May\, to warm and sunny beaches in July\, and a spectacular New Year’s Ball\, this performance will be enjoyed by all. Danced by Goh Ballet’s Children’s Division and award-winning Junior and Senior dancers\, join us as we experience the wonders of the seasons.
URL:https://thedancecentre.ca/event/goh-ballet-4/
CATEGORIES:Performance
END:VEVENT
BEGIN:VEVENT
DTSTART;TZID=America/Vancouver:20250612T080000
DTEND;TZID=America/Vancouver:20250621T170000
DTSTAMP:20260419T054726
CREATED:20250529T155515Z
LAST-MODIFIED:20250529T155515Z
UID:21008-1749715200-1750525200@thedancecentre.ca
SUMMARY:Dancing on the Edge 2025
DESCRIPTION:Dancing on the Edge Festival (DOTE)\, recognized as the cornerstone of Vancouver’s contemporary dance season\, presents its 37th annual festival\, featuring an impressive line-up of established and emerging dancemakers at the Firehall Arts Centre and SFU Woodward’s\, on stages June 12 to 21\, 2025. \nSpotlighting a wide range of eclectic world and Canadian premieres\, as well as works in progress\, from Canadian and international artists\, the festival will offer seven mixed programs\, and three full-length works\, over its 10-day slate of performances.
URL:https://thedancecentre.ca/event/dancing-on-the-edge-2025/
CATEGORIES:Event
ATTACH;FMTTYPE=image/jpeg:https://thedancecentre.ca/wp-content/uploads/2025/05/500314160_1282218170579943_8955407695393403746_n.jpg
END:VEVENT
BEGIN:VEVENT
DTSTART;TZID=America/Vancouver:20250618T203000
DTEND;TZID=America/Vancouver:20250618T203000
DTSTAMP:20260419T054726
CREATED:20250522T155724Z
LAST-MODIFIED:20250522T155724Z
UID:20975-1750278600-1750278600@thedancecentre.ca
SUMMARY:Mascall Dance
DESCRIPTION:Lurch explores a body and an inanimate object. Each commissioned choreographer was given the same inanimate object (a larger set piece\, welded by sculptor Alan Storey in 2010) and the same dancers. From Streetdance to Somatics and Ballet to Ballroom\, their diversity in age and life experiences bring profound questions to their improvisations. The three investigators are well known for mature work\, big ideas\, and a powerful knack for talking about dance. From each set of discussions and research has emerged a unique ecosystem containing philosophies of movement\, stillness and life. For the first time these perspectives are being presented together.
URL:https://thedancecentre.ca/event/mascall-dance/
CATEGORIES:Performance
END:VEVENT
BEGIN:VEVENT
DTSTART;TZID=America/Vancouver:20250620T193000
DTEND;TZID=America/Vancouver:20250620T193000
DTSTAMP:20260419T054726
CREATED:20250610T191124Z
LAST-MODIFIED:20250610T191124Z
UID:21080-1750447800-1750447800@thedancecentre.ca
SUMMARY:Tablao Triana
DESCRIPTION:On this special night\, nine extraordinary local Flamenco artists will take the stage. \nWhether you are a devoted aficionado or discovering Flamenco for the very first time\, let yourself be swept away by the fiery spirit of this beloved Spanish art form. \nFrom the expressive dance to the rhythmic heartbeat of the cajón (percussion)\, this immersive evening promises to transport you to Spain—no passport required. \nCulinary Experience: Each attendee will be treated to a selection of handpicked Spanish cold cuts and artisanal cheeses\, presented in an intimate setting where taste\, sound\, and movement come together to captivate your senses—the Spanish way.
URL:https://thedancecentre.ca/event/tablao-triana/
CATEGORIES:Performance
END:VEVENT
BEGIN:VEVENT
DTSTART;TZID=America/Vancouver:20250623T180000
DTEND;TZID=America/Vancouver:20250623T180000
DTSTAMP:20260419T054726
CREATED:20250123T185612Z
LAST-MODIFIED:20250520T184034Z
UID:20052-1750701600-1750701600@thedancecentre.ca
SUMMARY:12 Minutes Max
DESCRIPTION:12 Minutes Max aims to foster experimentation and the development of new dance works\, along with critical feedback and community dialogue. Dance artists Aditi Chaudhury & Sudnya Mulye\, Jullianna Oke\, Jhoely Triana Flamenco\, and Krystal Tsai will share and discuss their work in an informal studio showing. \nPhoto: Aditi Chaudhury & Sudnya Mulye by Manish Soni; Jullianna Oke by Metta Rose Photography;  Jhoely Triana Flamenco courtesy of the artist; Krystal Tsai by Czarina Agustines.
URL:https://thedancecentre.ca/event/12-minutes-max-2025-session-3/
LOCATION:Scotiabank Dance Centre\, 677 Davie Street\, Vancouver\, British Columbia\, V6B 2G6\, Canada
CATEGORIES:Event,Studio Showing
ATTACH;FMTTYPE=image/png:https://thedancecentre.ca/wp-content/uploads/2025/01/IMG_8719-Manish-Soni.png
END:VEVENT
END:VCALENDAR