BEGIN:VCALENDAR
VERSION:2.0
PRODID:-//The Dance Centre - ECPv6.15.13//NONSGML v1.0//EN
CALSCALE:GREGORIAN
METHOD:PUBLISH
X-WR-CALNAME:The Dance Centre
X-ORIGINAL-URL:https://thedancecentre.ca
X-WR-CALDESC:Events for The Dance Centre
REFRESH-INTERVAL;VALUE=DURATION:PT1H
X-Robots-Tag:noindex
X-PUBLISHED-TTL:PT1H
BEGIN:VTIMEZONE
TZID:America/Vancouver
BEGIN:DAYLIGHT
TZOFFSETFROM:-0800
TZOFFSETTO:-0700
TZNAME:PDT
DTSTART:20240310T100000
END:DAYLIGHT
BEGIN:STANDARD
TZOFFSETFROM:-0700
TZOFFSETTO:-0800
TZNAME:PST
DTSTART:20241103T090000
END:STANDARD
BEGIN:DAYLIGHT
TZOFFSETFROM:-0800
TZOFFSETTO:-0700
TZNAME:PDT
DTSTART:20250309T100000
END:DAYLIGHT
BEGIN:STANDARD
TZOFFSETFROM:-0700
TZOFFSETTO:-0800
TZNAME:PST
DTSTART:20251102T090000
END:STANDARD
BEGIN:DAYLIGHT
TZOFFSETFROM:-0800
TZOFFSETTO:-0700
TZNAME:PDT
DTSTART:20260308T100000
END:DAYLIGHT
BEGIN:STANDARD
TZOFFSETFROM:-0700
TZOFFSETTO:-0800
TZNAME:PST
DTSTART:20261101T090000
END:STANDARD
BEGIN:DAYLIGHT
TZOFFSETFROM:-0800
TZOFFSETTO:-0700
TZNAME:PDT
DTSTART:20270314T100000
END:DAYLIGHT
BEGIN:STANDARD
TZOFFSETFROM:-0700
TZOFFSETTO:-0800
TZNAME:PST
DTSTART:20271107T090000
END:STANDARD
END:VTIMEZONE
BEGIN:VEVENT
DTSTART;TZID=America/Vancouver:20250715T080000
DTEND;TZID=America/Vancouver:20260309T170000
DTSTAMP:20260421T020339
CREATED:20250715T164133Z
LAST-MODIFIED:20260326T213026Z
UID:21180-1752566400-1773075600@thedancecentre.ca
SUMMARY:Global Dance Connections Subscriptions
DESCRIPTION:  \nOur Global Dance Connections series features exciting dance works by artists from across Canada. Subscribe to secure your seat and get the best prices! \nIf your schedule changes\, you can change your booking to a different performance of the same show at no charge (subject to availability). \nOct 9-10 Co.ERASGA\nJan 26-27 Action at a Distance/Vanessa Goodman\nJan 30-31 Plastic Orchid Factory/James Gnam\nFeb 5-6 Justine A. Chambers\nMar 13-14 Ame Henderson Projects + Provincija\nMay 21-23 Corporeal Imago\nJune 19-20 FakeKnot \nScroll down for show details.
URL:https://thedancecentre.ca/event/global-dance-connections-subscriptions-2025-2026/
LOCATION:Scotiabank Dance Centre\, 677 Davie Street\, Vancouver\, British Columbia\, V6B 2G6\, Canada
CATEGORIES:Event
ATTACH;FMTTYPE=image/png:https://thedancecentre.ca/wp-content/uploads/2025/06/Action-at-a-Distance-WAIL-photo-David-Cooper-3.png
END:VEVENT
BEGIN:VEVENT
DTSTART;TZID=America/Vancouver:20260303T080000
DTEND;TZID=America/Vancouver:20260308T170000
DTSTAMP:20260421T020339
CREATED:20260120T204841Z
LAST-MODIFIED:20260120T204926Z
UID:23072-1772524800-1772989200@thedancecentre.ca
SUMMARY:Coastal Dance Festival 2026
DESCRIPTION:  \nThe Coastal Dance Festival (CDF) returns for its 19th annual celebration from March 3–8\, 2026\, bringing together stories\, songs\, and dances from Indigenous peoples of BC\, the Yukon\, Alaska\, and Washington\, alongside special national and international guest artists. \nFull schedule.
URL:https://thedancecentre.ca/event/coastal-dance-festival-2026/
CATEGORIES:Event
END:VEVENT
BEGIN:VEVENT
DTSTART;VALUE=DATE:20260304
DTEND;VALUE=DATE:20260315
DTSTAMP:20260421T020339
CREATED:20260220T201406Z
LAST-MODIFIED:20260220T201445Z
UID:24670-1772582400-1773532799@thedancecentre.ca
SUMMARY:Vancouver International Dance Festival 2026
DESCRIPTION:  \nFrom March 4–14\, VIDF 2026 transforms our beautiful city into a hub for global dance that challenges norms and inspires connection.
URL:https://thedancecentre.ca/event/vancouver-international-dance-festival-2026/
CATEGORIES:Event
END:VEVENT
BEGIN:VEVENT
DTSTART;TZID=America/Vancouver:20260305T120000
DTEND;TZID=America/Vancouver:20260305T130000
DTSTAMP:20260421T020339
CREATED:20250715T163717Z
LAST-MODIFIED:20260306T170443Z
UID:21170-1772712000-1772715600@thedancecentre.ca
SUMMARY:Idan Cohen/ Ne. Sans Opera & Dance
DESCRIPTION:  \nMeticulously crafted and suffused with musicality\, Idan Cohen’s exquisite creations emerge from the intersection of opera\, music\, and contemporary dance. This performance will feature two works. About Time is a duet set to the haunting piano music of Philip Glass\, a powerful response to a fractured world where the overwhelming flood of information becomes a vehicle for conflict rather than connection; it seeks a path towards human compassion and understanding. The program also includes a sneak peek of excerpts from Cohen’s new work in development Bach Dances\, which reimagines Bach’s famous solo Cello Suites through dance.
URL:https://thedancecentre.ca/event/idan-cohen-ne-sans-opera-dance/
LOCATION:Scotiabank Dance Centre\, 677 Davie Street\, Vancouver\, British Columbia\, V6B 2G6\, Canada
CATEGORIES:Performance
ATTACH;FMTTYPE=image/jpeg:https://thedancecentre.ca/wp-content/uploads/2025/06/Ne.-Sans-Opera-Dance.jpg
END:VEVENT
BEGIN:VEVENT
DTSTART;TZID=America/Vancouver:20260306T193000
DTEND;TZID=America/Vancouver:20260307T170000
DTSTAMP:20260421T020339
CREATED:20250919T173421Z
LAST-MODIFIED:20250919T173421Z
UID:21912-1772825400-1772902800@thedancecentre.ca
SUMMARY:GALLIM
DESCRIPTION:Under the direction of groundbreaking artist Andrea Miller — the first choreographer to be named Artist in Residence at The Metropolitan Museum of Art — GALLIM performs bold and thought-provoking dance works for audiences across the globe. In this Victoria premiere\, the company’s mixed program will showcase Miller’s range and ingenuity with state\, created in collaboration with A.I.M by Kyle Abraham; Bruce\, a boisterous work set to the rhythms of Balkan Beat Box and Joanna Newsom; No Ordinary Love\, a soul-stirring duet performed to the Sade song of the same title; the unconventional and expressive SAMA; and From (Desde)\, a series of intimate duets set to the captivating sounds of Nicolas Jaar.
URL:https://thedancecentre.ca/event/gallim/
CATEGORIES:Performance
END:VEVENT
BEGIN:VEVENT
DTSTART;TZID=America/Vancouver:20260311T180000
DTEND;TZID=America/Vancouver:20260312T190000
DTSTAMP:20260421T020339
CREATED:20260303T185052Z
LAST-MODIFIED:20260303T185052Z
UID:24712-1773252000-1773342000@thedancecentre.ca
SUMMARY:Compagnie KHOR / Khoudia Touré
DESCRIPTION:Following human journeys and the places they cross\, Óró features street dancers from Dakar\, Paris and Vancouver. They explore notions of shadow\, identity and hope\, telling a story beyond words. \nÓró asks how dance can be a place of symbols and ideas\, a trajectory from the individual to the collective. Khoudia’s discovery of Hip Hop goes back to her childhood\, a time when it became a political and cultural force for Senegalese youth. She created Compagnie KHOR to connect the show on stage with actions anchored in real life and community. \nPresented with New Works Dance\, Community Partner: Alliance Française Vancouver
URL:https://thedancecentre.ca/event/compagnie-khor-khoudia-toure/
CATEGORIES:Performance
ATTACH;FMTTYPE=image/jpeg:https://thedancecentre.ca/wp-content/uploads/2026/03/khoudia-2.jpg
END:VEVENT
BEGIN:VEVENT
DTSTART;TZID=America/Vancouver:20260313T190000
DTEND;TZID=America/Vancouver:20260314T200000
DTSTAMP:20260421T020339
CREATED:20250703T164716Z
LAST-MODIFIED:20260315T233004Z
UID:21155-1773428400-1773518400@thedancecentre.ca
SUMMARY:Ame Henderson Projects + Provincija
DESCRIPTION:Collaborating across borders and disciplines\, Canadian choreographer Ame Henderson and Croatian director Matija Ferlin are known for their playfully rigorous conceptual performances. In this new duet\, they play with light and darkness to explore the felt experience of endings – political\, social and personal ones. The “snap to black” and the revealed tableaux that follow become a motif exposing the impossibility of controlling the narrative. From endless endings gradually emerges the feeling of a beginning.
URL:https://thedancecentre.ca/event/ame-henderson-matija-ferlin/
LOCATION:Scotiabank Dance Centre\, 677 Davie Street\, Vancouver\, British Columbia\, V6B 2G6\, Canada
CATEGORIES:Performance
ATTACH;FMTTYPE=image/jpeg:https://thedancecentre.ca/wp-content/uploads/2025/07/Show_Gone-Photo-web-15.jpg
END:VEVENT
BEGIN:VEVENT
DTSTART;TZID=America/Vancouver:20260321T193000
DTEND;TZID=America/Vancouver:20260321T203000
DTSTAMP:20260421T020339
CREATED:20260213T202535Z
LAST-MODIFIED:20260213T202809Z
UID:24640-1774121400-1774125000@thedancecentre.ca
SUMMARY:Isak Enquist
DESCRIPTION:Fall(se) Circ(us) will explore the notion of rebellion against everyday complacency through shifting cycles of “work” and “rest\,” inviting improvised movement as a form of resistance. Enquist’s experimental movement language – a combination of Martial Arts\, snowboarding style\, and experimental floor work – will be embodied by an ensemble of seven local performing artists. \nAt its core\, Fall(se) Circ(us) seeks to subvert expectations\, transforming a traditional performance space into a shared celebration with audience members.
URL:https://thedancecentre.ca/event/isak-enquist/
CATEGORIES:Performance
ATTACH;FMTTYPE=image/png:https://thedancecentre.ca/wp-content/uploads/2026/02/Fallse-Circus-Poster_Final.png
END:VEVENT
BEGIN:VEVENT
DTSTART;TZID=America/Vancouver:20260326T190000
DTEND;TZID=America/Vancouver:20260328T203000
DTSTAMP:20260421T020339
CREATED:20260319T175015Z
LAST-MODIFIED:20260319T175015Z
UID:24843-1774551600-1774729800@thedancecentre.ca
SUMMARY:Mascall Dance Society
DESCRIPTION:Choreographic residencies that culminate in showings of dance\, wine & comedy with Shion Skye Carter\, Yvonne Chartrand\, Lee Su-Feh\, and Jennifer Mascall \nIf you have any accessibility needs contact – production[at]mascalldance.ca
URL:https://thedancecentre.ca/event/mascall-dance-society/
CATEGORIES:Performance
ATTACH;FMTTYPE=image/png:https://thedancecentre.ca/wp-content/uploads/2026/03/Bloom-2026.png
END:VEVENT
BEGIN:VEVENT
DTSTART;TZID=America/Vancouver:20260327T190000
DTEND;TZID=America/Vancouver:20260328T210000
DTSTAMP:20260421T020339
CREATED:20260120T203542Z
LAST-MODIFIED:20260210T205100Z
UID:23062-1774638000-1774731600@thedancecentre.ca
SUMMARY:Shape of Circus
DESCRIPTION:A world premiere of this contemporary acrobatics show featuring acrobats interacting with a giant rocking prop. \n\n\n\n\nExperience this world premiere in an intimate setting at the Scotiabank Dance Centre in downtown Vancouver! “Monday” follows the lives of 6 individuals and showcases how our actions affect one another\, and touches on the theme of learning to live in the present. Often these days we are consumed by technology and we forget to live in the moment. We invite you to join us in an evening of live theatre and to spend the night living in the moment\, supporting live art\, and live artists.
URL:https://thedancecentre.ca/event/shape-of-circus/
LOCATION:Scotiabank Dance Centre\, 677 Davie Street\, Vancouver\, British Columbia\, V6B 2G6\, Canada
CATEGORIES:Performance
END:VEVENT
BEGIN:VEVENT
DTSTART;TZID=America/Vancouver:20260330T180000
DTEND;TZID=America/Vancouver:20260330T190000
DTSTAMP:20260421T020339
CREATED:20260120T200256Z
LAST-MODIFIED:20260331T173442Z
UID:22584-1774893600-1774897200@thedancecentre.ca
SUMMARY:12 Minutes Max
DESCRIPTION:  \n12 Minutes Max aims to foster experimentation and the development of new dance works\, along with critical feedback and community dialogue. \nJoin us for an informal studio showing\, to see and discuss works in progress by: Arno Kamolika and Akshaya Surve\, Jamie Ranney\, Nathan Coburn\, and Rina Pellerin. \nPhotos: Madeleine Gilbert and Miakanese Manning/Adrian Deleeuw; Arno Kamolika and Akshaya Surve/Pratiksha Kaddur; Jamie Ranney/Michael Tabinka; Nathan Coburn/Elle Derkitt; Rina Pellerin/Yoshi Hisanaga
URL:https://thedancecentre.ca/event/12-minutes-max-session-1-2026/
LOCATION:Scotiabank Dance Centre\, 677 Davie Street\, Vancouver\, British Columbia\, V6B 2G6\, Canada
CATEGORIES:Event,Studio Showing
ATTACH;FMTTYPE=image/jpeg:https://thedancecentre.ca/wp-content/uploads/2026/01/Arno-Akshaya-by-Pratiksha-Kaddur-edit.jpg
END:VEVENT
END:VCALENDAR